{
 "currentVersion": 10.41,
 "serviceDescription": "",
 "mapName": "Names",
 "description": "",
 "copyrightText": "",
 "supportsDynamicLayers": false,
 "layers": [
  {
   "id": 0,
   "name": "RoadSymbols_577K",
   "parentLayerId": -1,
   "defaultVisibility": true,
   "subLayerIds": null,
   "minScale": 750000,
   "maxScale": 300001
  },
  {
   "id": 1,
   "name": "RoadSymbols_288K",
   "parentLayerId": -1,
   "defaultVisibility": true,
   "subLayerIds": null,
   "minScale": 288896,
   "maxScale": 144449
  },
  {
   "id": 2,
   "name": "Roads+Names+Hwy<144k(500;250)",
   "parentLayerId": -1,
   "defaultVisibility": true,
   "subLayerIds": null,
   "minScale": 144449,
   "maxScale": 0
  },
  {
   "id": 3,
   "name": "Roads+Names+Hwy <72K(100)",
   "parentLayerId": -1,
   "defaultVisibility": true,
   "subLayerIds": null,
   "minScale": 72225,
   "maxScale": 0
  },
  {
   "id": 4,
   "name": "Roads+Names <36K(48)",
   "parentLayerId": -1,
   "defaultVisibility": true,
   "subLayerIds": null,
   "minScale": 72223,
   "maxScale": 0
  },
  {
   "id": 5,
   "name": "Roads+Names <18K(24)",
   "parentLayerId": -1,
   "defaultVisibility": true,
   "subLayerIds": null,
   "minScale": 18057,
   "maxScale": 0
  },
  {
   "id": 6,
   "name": "Roads+Names <9K(12)",
   "parentLayerId": -1,
   "defaultVisibility": true,
   "subLayerIds": null,
   "minScale": 9030,
   "maxScale": 0
  },
  {
   "id": 7,
   "name": "Roads+Names <4K(Null)",
   "parentLayerId": -1,
   "defaultVisibility": true,
   "subLayerIds": null,
   "minScale": 9027,
   "maxScale": 0
  }
 ],
 "tables": [],
 "spatialReference": {
  "wkid": 102100,
  "latestWkid": 3857
 },
 "singleFusedMapCache": true,
 "tileInfo": {
  "rows": 512,
  "cols": 512,
  "dpi": 96,
  "format": "PNG8",
  "compressionQuality": 0,
  "origin": {
   "x": -2.0037508342787E7,
   "y": 2.0037508342787E7
  },
  "spatialReference": {
   "wkid": 102100,
   "latestWkid": 3857
  },
  "lods": [
   {
    "level": 0,
    "resolution": 152.87405657041106,
    "scale": 577790.554289
   },
   {
    "level": 1,
    "resolution": 76.43702828507324,
    "scale": 288895.277144
   },
   {
    "level": 2,
    "resolution": 38.21851414253662,
    "scale": 144447.638572
   },
   {
    "level": 3,
    "resolution": 19.10925707126831,
    "scale": 72223.819286
   },
   {
    "level": 4,
    "resolution": 9.554628535634155,
    "scale": 36111.909643
   },
   {
    "level": 5,
    "resolution": 4.77731426794937,
    "scale": 18055.954822
   },
   {
    "level": 6,
    "resolution": 2.388657133974685,
    "scale": 9027.977411
   },
   {
    "level": 7,
    "resolution": 1.1943285668550503,
    "scale": 4513.988705
   },
   {
    "level": 8,
    "resolution": 0.5971642835598172,
    "scale": 2256.994353
   },
   {
    "level": 9,
    "resolution": 0.29858214164761665,
    "scale": 1128.497176
   },
   {
    "level": 10,
    "resolution": 0.15240030480060962,
    "scale": 576
   }
  ]
 },
 "initialExtent": {
  "xmin": -8936808.407130815,
  "ymin": 3083417.3217065856,
  "xmax": -8908068.084495626,
  "ymax": 3095284.1703478433,
  "spatialReference": {
   "cs": "pcs",
   "wkid": 102100
  }
 },
 "fullExtent": {
  "xmin": -9018988.021124037,
  "ymin": 3013742.8381634,
  "xmax": -8902700.691323446,
  "ymax": 3130632.2919087615,
  "spatialReference": {
   "cs": "pcs",
   "wkid": 102100
  }
 },
 "minScale": 577790.554289,
 "maxScale": 576,
 "units": "esriMeters",
 "supportedImageFormatTypes": "PNG32,PNG24,PNG,JPG,DIB,TIFF,EMF,PS,PDF,GIF,SVG,SVGZ,BMP",
 "documentInfo": {
  "Title": "",
  "Author": "",
  "Comments": "Palm Beach County Centerline Annotation",
  "Subject": "Palm Beach County Centerline Annotation",
  "Category": "",
  "AntialiasingMode": "None",
  "TextAntialiasingMode": "Force",
  "Keywords": "Centerline Names Roads"
 },
 "capabilities": "Map,Query,Data",
 "supportedQueryFormats": "JSON, AMF, geoJSON",
 "exportTilesAllowed": false,
 "maxRecordCount": 1000,
 "maxImageHeight": 4096,
 "maxImageWidth": 4096,
 "supportedExtensions": ""
}
